BEGIN:VCALENDAR
VERSION:2.0
PRODID:spatie/icalendar-generator
DESCRIPTION:Events from Saltworks Theatre Company
X-WR-CALDESC:Events from Saltworks Theatre Company
REFRESH-INTERVAL;VALUE=DURATION:PT1440M
X-PUBLISHED-TTL:PT1440M
BEGIN:VTIMEZONE
TZID:America/New_York
BEGIN:DAYLIGHT
DTSTART:20240310T020000Z
TZOFFSETFROM:-0500
TZOFFSETTO:-0400
END:DAYLIGHT
BEGIN:STANDARD
DTSTART:20241103T020000Z
TZOFFSETFROM:-0400
TZOFFSETTO:-0500
END:STANDARD
BEGIN:DAYLIGHT
DTSTART:20250309T020000Z
TZOFFSETFROM:-0500
TZOFFSETTO:-0400
END:DAYLIGHT
END:VTIMEZONE
BEGIN:VTIMEZONE
TZID:UTC
BEGIN:STANDARD
DTSTART:20250723T122853Z
TZOFFSETFROM:+0000
TZOFFSETTO:+0000
END:STANDARD
END:VTIMEZONE
BEGIN:VEVENT
UID:246-237
DTSTAMP:20260419T122853Z
SUMMARY:Shannock Valley Elementary School | Wellness Warriors
LOCATION:Shannock Valley Elementary School   Rural Valley PA
ORGANIZER;CN=Stephanie Wilsey:MAILTO:swilsey@saltworks.org
DTSTART;TZID=America/New_York:20241120T100000
DTEND;TZID=America/New_York:20241120T110000
X-ALT-DESC;FMTTYPE=TEXT/HTML:
CATEGORIES:Assembly Show Schedule
URL;VALUE=URI:https://www.saltworks.org/mc-events/shannock-valley-elementar
 y-school-wellness-warriors/
METHOD:PUBLISH
END:VEVENT
END:VCALENDAR