BEGIN:VCALENDAR
VERSION:2.0
PRODID:spatie/icalendar-generator
DESCRIPTION:Events from Saltworks Theatre Company
X-WR-CALDESC:Events from Saltworks Theatre Company
REFRESH-INTERVAL;VALUE=DURATION:PT1440M
X-PUBLISHED-TTL:PT1440M
BEGIN:VTIMEZONE
TZID:America/New_York
BEGIN:DAYLIGHT
DTSTART:20220313T020000Z
TZOFFSETFROM:-0500
TZOFFSETTO:-0400
END:DAYLIGHT
BEGIN:STANDARD
DTSTART:20221106T020000Z
TZOFFSETFROM:-0400
TZOFFSETTO:-0500
END:STANDARD
BEGIN:DAYLIGHT
DTSTART:20230312T020000Z
TZOFFSETFROM:-0500
TZOFFSETTO:-0400
END:DAYLIGHT
END:VTIMEZONE
BEGIN:VTIMEZONE
TZID:UTC
BEGIN:STANDARD
DTSTART:20250725T104939Z
TZOFFSETFROM:+0000
TZOFFSETTO:+0000
END:STANDARD
END:VTIMEZONE
BEGIN:VEVENT
UID:55-55
DTSTAMP:20260421T104939Z
SUMMARY:Pittsburgh West Liberty PreK-5 | Alex Rewrites the Wrongs
LOCATION:Pittsburgh West Liberty PreK-5   Pittsburgh PA
ORGANIZER;CN=Stephanie Wilsey:MAILTO:swilsey@saltworks.org
DTSTART;TZID=America/New_York:20221028T093000
DTEND;TZID=America/New_York:20221028T103000
X-ALT-DESC;FMTTYPE=TEXT/HTML:
CATEGORIES:Assembly Show Schedule
URL;VALUE=URI:https://www.saltworks.org/mc-events/pittsburgh-west-liberty-p
 rek-5-alex-rewrites-the-wrongs/
METHOD:PUBLISH
END:VEVENT
END:VCALENDAR