BEGIN:VCALENDAR
VERSION:2.0
PRODID:spatie/icalendar-generator
DESCRIPTION:Events from Saltworks Theatre Company
X-WR-CALDESC:Events from Saltworks Theatre Company
REFRESH-INTERVAL;VALUE=DURATION:PT1440M
X-PUBLISHED-TTL:PT1440M
BEGIN:VTIMEZONE
TZID:America/New_York
BEGIN:STANDARD
DTSTART:20251102T020000Z
TZOFFSETFROM:-0400
TZOFFSETTO:-0500
END:STANDARD
BEGIN:DAYLIGHT
DTSTART:20260308T020000Z
TZOFFSETFROM:-0500
TZOFFSETTO:-0400
END:DAYLIGHT
END:VTIMEZONE
BEGIN:VTIMEZONE
TZID:UTC
BEGIN:STANDARD
DTSTART:20250723T191738Z
TZOFFSETFROM:+0000
TZOFFSETTO:+0000
END:STANDARD
END:VTIMEZONE
BEGIN:VEVENT
UID:383-363
DTSTAMP:20260419T191738Z
SUMMARY:Campus Laboratory School (CLS) of Carlow University | When Panic At
 tacks
LOCATION:Campus Laboratory School of Carlow University 3333 Fifth Ave  Pitt
 sburgh  PA 15213
ORGANIZER;CN=Stephanie Wilsey:MAILTO:swilsey@saltworks.org
DTSTART;TZID=America/New_York:20260206T100000
DTEND;TZID=America/New_York:20260206T110000
X-ALT-DESC;FMTTYPE=TEXT/HTML:
CATEGORIES:Assembly Show Schedule
URL;VALUE=URI:https://www.saltworks.org/mc-events/campus-laboratory-school-
 cls-of-carlow-university-when-panic-attacks/
METHOD:PUBLISH
END:VEVENT
END:VCALENDAR