BEGIN:VCALENDAR
VERSION:2.0
PRODID:spatie/icalendar-generator
DESCRIPTION:Events from Saltworks Theatre Company
X-WR-CALDESC:Events from Saltworks Theatre Company
REFRESH-INTERVAL;VALUE=DURATION:PT1440M
X-PUBLISHED-TTL:PT1440M
BEGIN:VTIMEZONE
TZID:America/New_York
BEGIN:STANDARD
DTSTART:20221106T020000Z
TZOFFSETFROM:-0400
TZOFFSETTO:-0500
END:STANDARD
BEGIN:DAYLIGHT
DTSTART:20230312T020000Z
TZOFFSETFROM:-0500
TZOFFSETTO:-0400
END:DAYLIGHT
END:VTIMEZONE
BEGIN:VTIMEZONE
TZID:UTC
BEGIN:STANDARD
DTSTART:20250725T105244Z
TZOFFSETFROM:+0000
TZOFFSETTO:+0000
END:STANDARD
END:VTIMEZONE
BEGIN:VEVENT
UID:20-20
DTSTAMP:20260421T105244Z
SUMMARY:Steel Valley Middle School | The Choice
LOCATION:Steel Valley Middle School   Homestead PA
ORGANIZER;CN=Stephanie Wilsey:MAILTO:swilsey@saltworks.org
DTSTART;TZID=America/New_York:20230113T140000
DTEND;TZID=America/New_York:20230113T150000
X-ALT-DESC;FMTTYPE=TEXT/HTML:
CATEGORIES:Assembly Show Schedule
URL;VALUE=URI:https://www.saltworks.org/mc-events/steel-valley-middle-schoo
 l-the-choice/
METHOD:PUBLISH
END:VEVENT
END:VCALENDAR